Package: Banksy Version: 1.2.0 Command: rm -rf Banksy.buildbin-libdir && mkdir Banksy.buildbin-libdir && F:\biocbuild\bbs-3.20-bioc\R\bin\R.exe CMD INSTALL --build --library=Banksy.buildbin-libdir Banksy_1.2.0.tar.gz StartedAt: 2025-02-11 07:56:45 -0500 (Tue, 11 Feb 2025) EndedAt: 2025-02-11 07:57:25 -0500 (Tue, 11 Feb 2025) EllapsedTime: 40.2 seconds RetCode: 0 Status: OK PackageFile: Banksy_1.2.0.zip PackageFileSize: 3.796 MiB