Package: BasicSTARRseq Version: 1.34.0 Command: /Library/Frameworks/R.framework/Resources/bin/R CMD INSTALL BasicSTARRseq StartedAt: 2025-02-10 15:53:29 -0500 (Mon, 10 Feb 2025) EndedAt: 2025-02-10 15:53:59 -0500 (Mon, 10 Feb 2025) EllapsedTime: 30.8 seconds RetCode: 0 Status: OK