Package: BasicSTARRseq Version: 1.34.0 Command: /Library/Frameworks/R.framework/Resources/bin/R CMD build --keep-empty-dirs --no-resave-data BasicSTARRseq StartedAt: 2025-02-03 17:12:24 -0500 (Mon, 03 Feb 2025) EndedAt: 2025-02-03 17:13:47 -0500 (Mon, 03 Feb 2025) EllapsedTime: 83.5 seconds RetCode: 0 Status: OK PackageFile: BasicSTARRseq_1.34.0.tar.gz PackageFileSize: 551.7 KiB