Package: BasicSTARRseq Version: 1.34.0 Command: /Library/Frameworks/R.framework/Resources/bin/R CMD check --install=check:BasicSTARRseq.install-out.txt --library=/Library/Frameworks/R.framework/Resources/library --no-vignettes --timings BasicSTARRseq_1.34.0.tar.gz StartedAt: 2025-02-10 23:57:35 -0500 (Mon, 10 Feb 2025) EndedAt: 2025-02-11 00:03:30 -0500 (Tue, 11 Feb 2025) EllapsedTime: 355.1 seconds RetCode: 0 Status: OK CheckDir: BasicSTARRseq.Rcheck Warnings: 0