Package: BasicSTARRseq Version: 1.34.0 Command: /home/biocbuild/bbs-3.20-bioc/R/bin/R CMD build --keep-empty-dirs --no-resave-data --md5 BasicSTARRseq StartedAt: 2025-02-03 16:25:45 -0500 (Mon, 03 Feb 2025) EndedAt: 2025-02-03 16:26:21 -0500 (Mon, 03 Feb 2025) EllapsedTime: 36.1 seconds RetCode: 0 Status: OK PackageFile: BasicSTARRseq_1.34.0.tar.gz PackageFileSize: 553 KiB