Package: BasicSTARRseq Version: 1.34.0 Command: chmod a+r BasicSTARRseq -R && F:\biocbuild\bbs-3.20-bioc\R\bin\R.exe CMD build --keep-empty-dirs --no-resave-data BasicSTARRseq StartedAt: 2025-02-03 17:37:15 -0500 (Mon, 03 Feb 2025) EndedAt: 2025-02-03 17:38:08 -0500 (Mon, 03 Feb 2025) EllapsedTime: 53.0 seconds RetCode: 0 Status: OK PackageFile: BasicSTARRseq_1.34.0.tar.gz PackageFileSize: 392.2 KiB