Package: BasicSTARRseq Version: 1.34.0 Command: F:\biocbuild\bbs-3.20-bioc\R\bin\R.exe CMD check --no-multiarch --install=check:BasicSTARRseq.install-out.txt --library=F:\biocbuild\bbs-3.20-bioc\R\library --no-vignettes --timings BasicSTARRseq_1.34.0.tar.gz StartedAt: 2025-02-03 23:20:45 -0500 (Mon, 03 Feb 2025) EndedAt: 2025-02-03 23:24:02 -0500 (Mon, 03 Feb 2025) EllapsedTime: 197.3 seconds RetCode: 0 Status: OK CheckDir: BasicSTARRseq.Rcheck Warnings: 0