Package: BatchQC Version: 2.2.0 Command: rm -rf BatchQC.buildbin-libdir && mkdir BatchQC.buildbin-libdir && /Users/biocbuild/BBS/utils/build-universal.sh BatchQC_2.2.0.tar.gz /Library/Frameworks/R.framework/Resources/bin/R BatchQC.buildbin-libdir StartedAt: 2025-02-05 14:54:02 -0500 (Wed, 05 Feb 2025) EndedAt: 2025-02-05 14:54:48 -0500 (Wed, 05 Feb 2025) EllapsedTime: 45.9 seconds RetCode: 0 Status: OK PackageFile: BatchQC_2.2.0.tgz PackageFileSize: 3.692 MiB