Package: BatchQC Version: 2.2.0 Command: /Library/Frameworks/R.framework/Resources/bin/R CMD INSTALL BatchQC StartedAt: 2025-02-03 17:46:22 -0500 (Mon, 03 Feb 2025) EndedAt: 2025-02-03 17:47:02 -0500 (Mon, 03 Feb 2025) EllapsedTime: 40.6 seconds RetCode: 0 Status: OK