Package: BatchQC Version: 2.2.0 Command: rm -rf BatchQC.buildbin-libdir && mkdir BatchQC.buildbin-libdir && /Users/biocbuild/BBS/utils/build-universal.sh BatchQC_2.2.0.tar.gz /Library/Frameworks/R.framework/Resources/bin/R BatchQC.buildbin-libdir StartedAt: 2025-02-04 12:30:14 -0500 (Tue, 04 Feb 2025) EndedAt: 2025-02-04 12:31:36 -0500 (Tue, 04 Feb 2025) EllapsedTime: 82.8 seconds RetCode: 0 Status: OK PackageFile: BatchQC_2.2.0.tgz PackageFileSize: 3.692 MiB