Package: BatchQC Version: 2.2.0 Command: /Library/Frameworks/R.framework/Resources/bin/R CMD INSTALL BatchQC StartedAt: 2025-02-03 16:37:37 -0500 (Mon, 03 Feb 2025) EndedAt: 2025-02-03 16:38:54 -0500 (Mon, 03 Feb 2025) EllapsedTime: 76.2 seconds RetCode: 0 Status: OK