Package: BatchQC Version: 2.2.0 Command: /home/biocbuild/bbs-3.20-bioc/R/bin/R CMD INSTALL BatchQC StartedAt: 2025-01-30 15:55:03 -0500 (Thu, 30 Jan 2025) EndedAt: 2025-01-30 15:55:41 -0500 (Thu, 30 Jan 2025) EllapsedTime: 38.2 seconds RetCode: 0 Status: OK