Package: BatchQC Version: 2.2.0 Command: rm -rf BatchQC.buildbin-libdir && mkdir BatchQC.buildbin-libdir && F:\biocbuild\bbs-3.20-bioc\R\bin\R.exe CMD INSTALL --build --library=BatchQC.buildbin-libdir BatchQC_2.2.0.tar.gz StartedAt: 2025-02-04 08:01:01 -0500 (Tue, 04 Feb 2025) EndedAt: 2025-02-04 08:01:53 -0500 (Tue, 04 Feb 2025) EllapsedTime: 52.1 seconds RetCode: 0 Status: OK PackageFile: BatchQC_2.2.0.zip PackageFileSize: 2.877 MiB