Package: BayesKnockdown Version: 1.32.0 Command: /Library/Frameworks/R.framework/Resources/bin/R CMD check --install=check:BayesKnockdown.install-out.txt --library=/Library/Frameworks/R.framework/Resources/library --no-vignettes --timings BayesKnockdown_1.32.0.tar.gz StartedAt: 2025-01-31 11:48:41 -0500 (Fri, 31 Jan 2025) EndedAt: 2025-01-31 11:49:10 -0500 (Fri, 31 Jan 2025) EllapsedTime: 29.2 seconds RetCode: 0 Status: OK CheckDir: BayesKnockdown.Rcheck Warnings: 0