Package: BayesKnockdown Version: 1.32.0 Command: /Library/Frameworks/R.framework/Resources/bin/R CMD INSTALL BayesKnockdown StartedAt: 2025-01-30 15:06:12 -0500 (Thu, 30 Jan 2025) EndedAt: 2025-01-30 15:06:15 -0500 (Thu, 30 Jan 2025) EllapsedTime: 3.1 seconds RetCode: 0 Status: OK