Package: BayesKnockdown Version: 1.32.0 Command: /Library/Frameworks/R.framework/Resources/bin/R CMD build --keep-empty-dirs --no-resave-data BayesKnockdown StartedAt: 2025-01-30 17:16:50 -0500 (Thu, 30 Jan 2025) EndedAt: 2025-01-30 17:17:11 -0500 (Thu, 30 Jan 2025) EllapsedTime: 21.0 seconds RetCode: 0 Status: OK PackageFile: BayesKnockdown_1.32.0.tar.gz PackageFileSize: 211.6 KiB