Package: BayesKnockdown Version: 1.32.0 Command: /Library/Frameworks/R.framework/Resources/bin/R CMD INSTALL BayesKnockdown StartedAt: 2025-02-03 15:13:29 -0500 (Mon, 03 Feb 2025) EndedAt: 2025-02-03 15:13:48 -0500 (Mon, 03 Feb 2025) EllapsedTime: 19.1 seconds RetCode: 0 Status: OK