Package: BayesKnockdown Version: 1.32.0 Command: F:\biocbuild\bbs-3.20-bioc\R\bin\R.exe CMD INSTALL BayesKnockdown StartedAt: 2025-01-30 15:23:43 -0500 (Thu, 30 Jan 2025) EndedAt: 2025-01-30 15:24:05 -0500 (Thu, 30 Jan 2025) EllapsedTime: 22.2 seconds RetCode: 0 Status: OK