Package: BayesKnockdown Version: 1.32.0 Command: /home/biocbuild/R/R/bin/R CMD build --keep-empty-dirs --no-resave-data BayesKnockdown StartedAt: 2025-01-30 21:43:30 -0000 (Thu, 30 Jan 2025) EndedAt: 2025-01-30 21:43:37 -0000 (Thu, 30 Jan 2025) EllapsedTime: 7.0 seconds RetCode: 0 Status: OK PackageFile: BayesKnockdown_1.32.0.tar.gz PackageFileSize: 204.7 KiB