Package: BayesKnockdown Version: 1.32.0 Command: /home/biocbuild/R/R/bin/R CMD INSTALL BayesKnockdown StartedAt: 2025-02-03 20:22:19 -0000 (Mon, 03 Feb 2025) EndedAt: 2025-02-03 20:22:41 -0000 (Mon, 03 Feb 2025) EllapsedTime: 21.7 seconds RetCode: 0 Status: OK