Package: BeadDataPackR Version: 1.58.0 Command: /Library/Frameworks/R.framework/Resources/bin/R CMD INSTALL BeadDataPackR StartedAt: 2025-02-10 15:03:37 -0500 (Mon, 10 Feb 2025) EndedAt: 2025-02-10 15:03:41 -0500 (Mon, 10 Feb 2025) EllapsedTime: 3.9 seconds RetCode: 0 Status: OK