Package: BeadDataPackR Version: 1.58.0 Command: rm -rf BeadDataPackR.buildbin-libdir && mkdir BeadDataPackR.buildbin-libdir && /Users/biocbuild/BBS/utils/build-universal.sh BeadDataPackR_1.58.0.tar.gz /Library/Frameworks/R.framework/Resources/bin/R BeadDataPackR.buildbin-libdir StartedAt: 2025-02-04 12:30:49 -0500 (Tue, 04 Feb 2025) EndedAt: 2025-02-04 12:31:01 -0500 (Tue, 04 Feb 2025) EllapsedTime: 12.1 seconds RetCode: 0 Status: OK PackageFile: BeadDataPackR_1.58.0.tgz PackageFileSize: 284.4 KiB