Package: BeadDataPackR Version: 1.58.0 Command: /Library/Frameworks/R.framework/Resources/bin/R CMD build --keep-empty-dirs --no-resave-data BeadDataPackR StartedAt: 2025-02-03 17:14:47 -0500 (Mon, 03 Feb 2025) EndedAt: 2025-02-03 17:15:08 -0500 (Mon, 03 Feb 2025) EllapsedTime: 21.4 seconds RetCode: 0 Status: OK PackageFile: BeadDataPackR_1.58.0.tar.gz PackageFileSize: 235.8 KiB