Package: BeadDataPackR Version: 1.58.0 Command: /Library/Frameworks/R.framework/Resources/bin/R CMD INSTALL BeadDataPackR StartedAt: 2025-02-03 15:12:31 -0500 (Mon, 03 Feb 2025) EndedAt: 2025-02-03 15:12:52 -0500 (Mon, 03 Feb 2025) EllapsedTime: 20.3 seconds RetCode: 0 Status: OK