Package: BeadDataPackR Version: 1.58.0 Command: /home/biocbuild/bbs-3.20-bioc/R/bin/R CMD build --keep-empty-dirs --no-resave-data --md5 BeadDataPackR StartedAt: 2025-02-10 16:20:33 -0500 (Mon, 10 Feb 2025) EndedAt: 2025-02-10 16:20:39 -0500 (Mon, 10 Feb 2025) EllapsedTime: 6.0 seconds RetCode: 0 Status: OK PackageFile: BeadDataPackR_1.58.0.tar.gz PackageFileSize: 236.9 KiB