Package: BeadDataPackR Version: 1.58.0 Command: chmod a+r BeadDataPackR -R && F:\biocbuild\bbs-3.20-bioc\R\bin\R.exe CMD build --keep-empty-dirs --no-resave-data BeadDataPackR StartedAt: 2025-02-03 17:39:05 -0500 (Mon, 03 Feb 2025) EndedAt: 2025-02-03 17:39:21 -0500 (Mon, 03 Feb 2025) EllapsedTime: 16.0 seconds RetCode: 0 Status: OK PackageFile: BeadDataPackR_1.58.0.tar.gz PackageFileSize: 236.5 KiB