Package: BeadDataPackR Version: 1.58.0 Command: /home/biocbuild/R/R/bin/R CMD build --keep-empty-dirs --no-resave-data BeadDataPackR StartedAt: 2025-02-03 21:51:11 -0000 (Mon, 03 Feb 2025) EndedAt: 2025-02-03 21:51:18 -0000 (Mon, 03 Feb 2025) EllapsedTime: 7.0 seconds RetCode: 0 Status: OK PackageFile: BeadDataPackR_1.58.0.tar.gz PackageFileSize: 229.6 KiB