Package: BeadDataPackR Version: 1.58.0 Command: /home/biocbuild/R/R/bin/R CMD check --install=check:BeadDataPackR.install-out.txt --library=/home/biocbuild/R/R/site-library --no-vignettes --timings BeadDataPackR_1.58.0.tar.gz StartedAt: 2025-02-04 04:39:56 -0000 (Tue, 04 Feb 2025) EndedAt: 2025-02-04 04:40:26 -0000 (Tue, 04 Feb 2025) EllapsedTime: 30.1 seconds RetCode: 0 Status: OK CheckDir: BeadDataPackR.Rcheck Warnings: 0