Package: BeadDataPackR Version: 1.58.0 Command: /home/biocbuild/R/R/bin/R CMD INSTALL BeadDataPackR StartedAt: 2025-02-03 20:21:30 -0000 (Mon, 03 Feb 2025) EndedAt: 2025-02-03 20:21:52 -0000 (Mon, 03 Feb 2025) EllapsedTime: 21.8 seconds RetCode: 0 Status: OK