Package: BgeeCall Version: 1.22.0 Command: /home/biocbuild/bbs-3.20-bioc/R/bin/R CMD INSTALL BgeeCall StartedAt: 2025-02-03 15:36:18 -0500 (Mon, 03 Feb 2025) EndedAt: 2025-02-03 15:36:56 -0500 (Mon, 03 Feb 2025) EllapsedTime: 37.6 seconds RetCode: 0 Status: OK