Package: BgeeDB Version: 2.32.0 Command: /Library/Frameworks/R.framework/Resources/bin/R CMD build --keep-empty-dirs --no-resave-data BgeeDB StartedAt: 2025-02-10 17:10:28 -0500 (Mon, 10 Feb 2025) EndedAt: 2025-02-10 17:19:22 -0500 (Mon, 10 Feb 2025) EllapsedTime: 533.8 seconds RetCode: 0 Status: OK PackageFile: BgeeDB_2.32.0.tar.gz PackageFileSize: 106.8 KiB