Package: BgeeDB Version: 2.32.0 Command: /Library/Frameworks/R.framework/Resources/bin/R CMD check --install=check:BgeeDB.install-out.txt --library=/Library/Frameworks/R.framework/Resources/library --no-vignettes --timings BgeeDB_2.32.0.tar.gz StartedAt: 2025-02-04 00:10:05 -0500 (Tue, 04 Feb 2025) EndedAt: 2025-02-04 00:23:47 -0500 (Tue, 04 Feb 2025) EllapsedTime: 821.8 seconds RetCode: 0 Status: OK CheckDir: BgeeDB.Rcheck Warnings: 0