Package: BgeeDB Version: 2.32.0 Command: /Library/Frameworks/R.framework/Resources/bin/R CMD INSTALL BgeeDB StartedAt: 2025-02-03 15:52:27 -0500 (Mon, 03 Feb 2025) EndedAt: 2025-02-03 15:53:45 -0500 (Mon, 03 Feb 2025) EllapsedTime: 77.5 seconds RetCode: 0 Status: OK