Package: BgeeDB Version: 2.32.0 Command: /home/biocbuild/bbs-3.20-bioc/R/bin/R CMD build --keep-empty-dirs --no-resave-data --md5 BgeeDB StartedAt: 2025-02-03 16:29:47 -0500 (Mon, 03 Feb 2025) EndedAt: 2025-02-03 16:35:01 -0500 (Mon, 03 Feb 2025) EllapsedTime: 314.3 seconds RetCode: 0 Status: OK PackageFile: BgeeDB_2.32.0.tar.gz PackageFileSize: 108.3 KiB