Package: BgeeDB Version: 2.32.0 Command: F:\biocbuild\bbs-3.20-bioc\R\bin\R.exe CMD check --no-multiarch --install=check:BgeeDB.install-out.txt --library=F:\biocbuild\bbs-3.20-bioc\R\library --no-vignettes --timings BgeeDB_2.32.0.tar.gz StartedAt: 2025-02-10 23:23:03 -0500 (Mon, 10 Feb 2025) EndedAt: 2025-02-10 23:40:15 -0500 (Mon, 10 Feb 2025) EllapsedTime: 1031.9 seconds RetCode: 0 Status: OK CheckDir: BgeeDB.Rcheck Warnings: 0