Package: BgeeDB Version: 2.32.0 Command: /home/biocbuild/R/R/bin/R CMD build --keep-empty-dirs --no-resave-data BgeeDB StartedAt: 2025-02-03 21:55:36 -0000 (Mon, 03 Feb 2025) EndedAt: 2025-02-03 22:04:07 -0000 (Mon, 03 Feb 2025) EllapsedTime: 511.1 seconds RetCode: 0 Status: OK PackageFile: BgeeDB_2.32.0.tar.gz PackageFileSize: 107.4 KiB