Package: BgeeDB Version: 2.32.0 Command: /home/biocbuild/R/R/bin/R CMD check --install=check:BgeeDB.install-out.txt --library=/home/biocbuild/R/R/site-library --no-vignettes --timings BgeeDB_2.32.0.tar.gz StartedAt: 2025-02-11 04:00:47 -0000 (Tue, 11 Feb 2025) EndedAt: 2025-02-11 04:23:45 -0000 (Tue, 11 Feb 2025) EllapsedTime: 1378.2 seconds RetCode: 1 Status: ERROR CheckDir: BgeeDB.Rcheck Warnings: NA