Package: BgeeDB Version: 2.32.0 Command: /home/biocbuild/R/R/bin/R CMD INSTALL BgeeDB StartedAt: 2025-02-10 20:35:15 -0000 (Mon, 10 Feb 2025) EndedAt: 2025-02-10 20:36:03 -0000 (Mon, 10 Feb 2025) EllapsedTime: 47.5 seconds RetCode: 0 Status: OK