Package: BiFET Version: 1.26.0 Command: /home/biocbuild/bbs-3.20-bioc/R/bin/R CMD build --keep-empty-dirs --no-resave-data --md5 BiFET StartedAt: 2025-01-30 16:22:07 -0500 (Thu, 30 Jan 2025) EndedAt: 2025-01-30 16:22:59 -0500 (Thu, 30 Jan 2025) EllapsedTime: 52.0 seconds RetCode: 0 Status: OK PackageFile: BiFET_1.26.0.tar.gz PackageFileSize: 644.6 KiB