Package: BiFET Version: 1.26.0 Command: rm -rf BiFET.buildbin-libdir && mkdir BiFET.buildbin-libdir && F:\biocbuild\bbs-3.20-bioc\R\bin\R.exe CMD INSTALL --build --library=BiFET.buildbin-libdir BiFET_1.26.0.tar.gz StartedAt: 2025-02-04 08:02:20 -0500 (Tue, 04 Feb 2025) EndedAt: 2025-02-04 08:02:35 -0500 (Tue, 04 Feb 2025) EllapsedTime: 15.5 seconds RetCode: 0 Status: OK PackageFile: BiFET_1.26.0.zip PackageFileSize: 663.5 KiB