Package: BiFET Version: 1.26.0 Command: /home/biocbuild/R/R/bin/R CMD INSTALL BiFET StartedAt: 2025-02-03 20:30:19 -0000 (Mon, 03 Feb 2025) EndedAt: 2025-02-03 20:30:30 -0000 (Mon, 03 Feb 2025) EllapsedTime: 11.2 seconds RetCode: 0 Status: OK