Package: BiFET Version: 1.26.0 Command: /home/biocbuild/bbs-3.20-bioc/R/bin/R CMD INSTALL BiFET StartedAt: 2024-11-19 15:38:54 -0500 (Tue, 19 Nov 2024) EndedAt: 2024-11-19 15:39:02 -0500 (Tue, 19 Nov 2024) EllapsedTime: 7.4 seconds RetCode: 0 Status: OK