Package: BiGGR Version: 1.42.0 Command: chmod a+r BiGGR -R && F:\biocbuild\bbs-3.20-bioc\R\bin\R.exe CMD build --keep-empty-dirs --no-resave-data BiGGR StartedAt: 2025-01-30 17:29:48 -0500 (Thu, 30 Jan 2025) EndedAt: 2025-01-30 17:30:27 -0500 (Thu, 30 Jan 2025) EllapsedTime: 39.0 seconds RetCode: 0 Status: OK PackageFile: BiGGR_1.42.0.tar.gz PackageFileSize: 4.194 MiB