Package: BiGGR Version: 1.42.0 Command: F:\biocbuild\bbs-3.20-bioc\R\bin\R.exe CMD check --no-multiarch --install=check:BiGGR.install-out.txt --library=F:\biocbuild\bbs-3.20-bioc\R\library --no-vignettes --timings BiGGR_1.42.0.tar.gz StartedAt: 2025-02-03 23:28:19 -0500 (Mon, 03 Feb 2025) EndedAt: 2025-02-03 23:33:59 -0500 (Mon, 03 Feb 2025) EllapsedTime: 339.1 seconds RetCode: 0 Status: OK CheckDir: BiGGR.Rcheck Warnings: 0