Package: BiGGR Version: 1.42.0 Command: F:\biocbuild\bbs-3.20-bioc\R\bin\R.exe CMD INSTALL BiGGR StartedAt: 2025-02-03 16:04:36 -0500 (Mon, 03 Feb 2025) EndedAt: 2025-02-03 16:04:56 -0500 (Mon, 03 Feb 2025) EllapsedTime: 19.6 seconds RetCode: 0 Status: OK