Package: BiGGR Version: 1.42.0 Command: /home/biocbuild/R/R/bin/R CMD build --keep-empty-dirs --no-resave-data BiGGR StartedAt: 2025-02-03 21:58:13 -0000 (Mon, 03 Feb 2025) EndedAt: 2025-02-03 21:58:14 -0000 (Mon, 03 Feb 2025) EllapsedTime: 1.0 seconds RetCode: 1 Status: ERROR PackageFile: None PackageFileSize: NA