Package: BiSeq Version: 1.46.0 Command: rm -rf BiSeq.buildbin-libdir && mkdir BiSeq.buildbin-libdir && /Users/biocbuild/BBS/utils/build-universal.sh BiSeq_1.46.0.tar.gz /Library/Frameworks/R.framework/Resources/bin/R BiSeq.buildbin-libdir StartedAt: 2025-02-04 12:33:25 -0500 (Tue, 04 Feb 2025) EndedAt: 2025-02-04 12:35:00 -0500 (Tue, 04 Feb 2025) EllapsedTime: 94.2 seconds RetCode: 0 Status: OK PackageFile: BiSeq_1.46.0.tgz PackageFileSize: 1.155 MiB