Package: BiSeq Version: 1.46.0 Command: /Library/Frameworks/R.framework/Resources/bin/R CMD INSTALL BiSeq StartedAt: 2025-01-30 16:21:50 -0500 (Thu, 30 Jan 2025) EndedAt: 2025-01-30 16:23:22 -0500 (Thu, 30 Jan 2025) EllapsedTime: 92.0 seconds RetCode: 0 Status: OK