Package: BiSeq Version: 1.46.0 Command: F:\biocbuild\bbs-3.20-bioc\R\bin\R.exe CMD check --no-multiarch --install=check:BiSeq.install-out.txt --library=F:\biocbuild\bbs-3.20-bioc\R\library --no-vignettes --timings BiSeq_1.46.0.tar.gz StartedAt: 2025-02-03 23:44:51 -0500 (Mon, 03 Feb 2025) EndedAt: 2025-02-03 23:51:54 -0500 (Mon, 03 Feb 2025) EllapsedTime: 422.8 seconds RetCode: 0 Status: OK CheckDir: BiSeq.Rcheck Warnings: 0