Package: BiSeq Version: 1.46.0 Command: /home/biocbuild/R/R/bin/R CMD build --keep-empty-dirs --no-resave-data BiSeq StartedAt: 2025-01-30 22:11:03 -0000 (Thu, 30 Jan 2025) EndedAt: 2025-01-30 22:13:29 -0000 (Thu, 30 Jan 2025) EllapsedTime: 146.0 seconds RetCode: 0 Status: OK PackageFile: BiSeq_1.46.0.tar.gz PackageFileSize: 909.1 KiB